Workbook
Name вид: '[1]имена списков'!$B$2:$B$6
Name вид: '[2]имена списков'!$B$2:$B$6
Name Вид_обработки: #REF!
Name единицы: '[1]имена списков'!$K$2:$K$6
Name единицы: '[2]имена списков'!$K$2:$K$6
Name присадка: '[1]имена списков'!$D$2:$D$5
Name присадка: '[2]имена списков'!$D$2:$D$5

Sheet Бланк v_0.1
E2: № Заказа | G2: 5_39 | M2: ты кто
A3: Принят: | C3: =TODAY() -> 45357 | E3: Дата отгрузки | H3: =TODAY() -> 45357 | J3: Принял | L3: тел.
I6: Присадка D35mm. | Q6: Колькулятор | по кругу добовляем ширину | Длина карниз не ставим ширину|
A7: № | B7: Вид | C7: Высота | D7: Ширина | E7: Кол-во | F7: МДФ | G7: Фрезеровка | H7: Обкатка | I7: Место | J7: Кол-во | K7: Площадь | L7: Примечание | M7: ЭМАЛЬ | N7: Цена м² | O7: Сумма | Q7: |стекло|карниз| | R7: Высота | S7: Ширина | T7: Кол-во | U7: пог. п.м. | V7: цена | W7: Сумма кв. м
A8: 1 | B8: Фальш/пл. | C8: 2521 | D8: 56 | E8: 1 | F8: 19/1L | G8: Чертёж | H8: R2' | I8: HOMAG | K8: =(C8/1000)*(D8/1000)*E8 -> 0.141176 | L8: Нет | N8: 6490 | O8: =K8*N8 -> 916.23224 | R8: 2750 | T8: 1 | U8: =((R8+S8)*2*T8)/1000 -> 5.5 | V8: 750 | W8: =U8*V8 -> 4125
A9: 2 | K9: =(C9/1000)*(D9/1000)*E9 -> 0 | L9: Нет | O9: =K9*N9 -> 0 | U9: =((R9+S9)*2*T9)/1000 -> 0 | W9: =U9*V9 -> 0
A10: 3 | K10: =(C10/1000)*(D10/1000)*E10 -> 0 | L10: Нет | O10: =K10*N10 -> 0 | U10: =((R10+S10)*2*T10)/1000 -> 0 | W10: =U10*V10 -> 0
A11: 4 | K11: =(C11/1000)*(D11/1000)*E11 -> 0 | L11: Нет | O11: =K11*N11 -> 0 | U11: =((R11+S11)*2*T11)/1000 -> 0 | W11: =U11*V11 -> 0
A12: 5 | K12: =(C12/1000)*(D12/1000)*E12 -> 0 | L12: Нет | O12: =K12*N12 -> 0 | U12: =((R12+S12)*2*T12)/1000 -> 0 | W12: =U12*V12 -> 0
A13: 8 | K13: =(C13/1000)*(D13/1000)*E13 -> 0 | L13: Нет | O13: =K13*N13 -> 0 | U13: =((R13+S13)*2*T13)/1000 -> 0 | W13: =U13*V13 -> 0
A14: 9 | K14: =(C14/1000)*(D14/1000)*E14 -> 0 | L14: Нет | O14: =K14*N14 -> 0 | U14: =((R14+S14)*2*T14)/1000 -> 0 | W14: =U14*V14 -> 0
A15: 10 | K15: =(C15/1000)*(D15/1000)*E15 -> 0 | L15: Нет | O15: =K15*N15 -> 0 | U15: =((R15+S15)*2*T15)/1000 -> 0 | W15: =U15*V15 -> 0
A16: 11 | K16: =(C16/1000)*(D16/1000)*E16 -> 0 | L16: Нет | O16: =K16*N16 -> 0 | U16: =((R16+S16)*2*T16)/1000 -> 0 | W16: =U16*V16 -> 0
A17: 12 | K17: =(C17/1000)*(D17/1000)*E17 -> 0 | L17: Нет | O17: =K17*N17 -> 0 | U17: =((R17+S17)*2*T17)/1000 -> 0 | W17: =U17*V17 -> 0
A18: 13 | K18: =(C18/1000)*(D18/1000)*E18 -> 0 | L18: Нет | O18: =K18*N18 -> 0 | U18: =((R18+S18)*2*T18)/1000 -> 0 | W18: =U18*V18 -> 0
A19: 14 | K19: =(C19/1000)*(D19/1000)*E19 -> 0 | L19: Нет | O19: =K19*N19 -> 0 | U19: =((R19+S19)*2*T19)/1000 -> 0 | W19: =U19*V19 -> 0
A20: 15 | K20: =(C20/1000)*(D20/1000)*E20 -> 0 | L20: Нет | O20: =K20*N20 -> 0 | U20: =((R20+S20)*2*T20)/1000 -> 0 | W20: =U20*V20 -> 0
... A26: 21 | K26: =(C26/1000)*(D26/1000)*E26 -> 0 | L26: Нет | O26: =K26*N26 -> 0 | U26: =((R26+S26)*2*T26)/1000 -> 0 | W26: =U26*V26 -> 0
A27: Для заметок | K27: =(C27/1000)*(D27/1000)*E27 -> 0 | L27: Дополнительно: | O27: =K27*N27 -> 0 | U27: =((R27+S27)*2*T27)/1000 -> 0 | W27: =U27*V27 -> 0
L28: Эмаль 1 цвета менше м2 +2000р. | O28: =K28*N28 -> 0 | U28: =((R28+S28)*2*T28)/1000 -> 0 | W28: =U28*V28 -> 0
L29: Погонные метры | O29: =K29*N29 -> 0 | R29: ИТОГО: | T29: =SUM(T8:T28) -> 1 | U29: =SUM(U8:U28) -> 5.5 | W29: =SUM(W8:W28) -> 4125
L30: Конвертация файлов присадок в 3d базис | O30: =K30*N30 -> 0
L31: Стекло вместе с установкой | O31: =K31*N31 -> 0
L32: Упаковка картон/рем.комлект эмали | O32: =K32*N32 -> 0
K33: =(C33/1000)*(D33/1000)*E33 -> 0 | O33: =K33*N33 -> 0
D34: Итого деталей в заказе: | E34: =SUM(E8:E33)+SUM(E33) -> 1 | F34: штук | J34: Итого м² в заказе: | K34: =SUM(K8:K33) -> 0.141176 | N34: Итого: | O34: =SUM(O8:O33) -> 916.23224
L35: Предоплата: | O35: 0
M36: Доплата | O36: =O38-O35 -> 916.23224
M38: сумма | O38: =L36+O34+L37+L38 -> 916.23224
A39: Г- глухой, В - витрина, Вч- витрина с четвертью, Впш - витрина с четвертью и пазом под гибкий уплатнитель белый для остекления ветрин Е-4.
A40: Р* - решетка ("*" - количество окошек), R - радиусный фасад, в графе ширина указывается хорда фасада
A41: ВНИМАНИЕ: Текстура и направление "Рельефных панелей (3D)" и "Фасадов" фрезеруется по умолчанию по графе "ВЫСОТА" если не указано иное
A42: ВНИМАНИЕ: Присадка по умолчанию делается по графе "ВЫСОТА" если не указано иное
A43: ВНИМАНИЕ: Расчет ДОЗАКАЗА крашенных изделий ВСЕГДА производится от объема не менее 1 кв.м. Это связано с минимальными объемами колеруемой краски доступными для покупки у поставщика.
A44: С чертежами и размерами согласен_______________________
A45: Уважаемые Заказчики! Обращаем Ваше внимание на нормативы качества мебельных фасадов:
A46: 1. | B46: Соответствие с каталогами цветов RAL, Color Sistem (CS), Natural Color Sistem (NCS): 85-100% (в зависимости от преломления света, различного материала, передачи и восприятия цвета, нанесения спецэффекта и т.п.)
A47: 2. | B47: Соответствие с каталогами цветов 90-100% (в зависимости от количества материала одной партии).
A48: 3. | B48: В случае дозаказа оттенок может меняться. Пылинки, проколы, точки: не более 3х под лаком на 0,3 м², допускается на торцах.
A49: 4. | B49: Все изделия размещенные в компании "PRIMIER FASAD", имеющие индивидуально-определенные свойства, могут быть использованы исключительно приобретающим их потребителем, тем самым не предполагают отказа.
...

Sheet Цех малярки
E1: № Заказа
I2: Присадка D35mm.
A3: № | B3: Вид | C3: Высота | D3: Ширина | E3: Кол-во | F3: МДФ | G3: Фрезеровка | H3: Обкатка | I3: Место | J3: Кол-во | K3: Площадь | L3: Примечание | M3: ЭМАЛЬ | N3: Работы по категориям | O3: площадь | R3: Список работ по категориям
A4: 1 | B4: Фальш/пл. | C4: 2521 | D4: 56 | E4: 1 | F4: 19/1L | G4: Чертёж | H4: R2' | I4: HOMAG | K4: =C4*D4*E4*0.000001 -> 0.141176 | N4: 2 кат.матовая | O4: =C4*D4*E4/1000000 -> 0.141176 | R4: 1 кат.матовая
A5: 2 | K5: =C5*D5*E5*0.000001 -> 0 | N5: Нет | O5: =C5*D5*E5/1000000 -> 0 | R5: 2 кат. Двух сторон матовая
A6: 3 | K6: =C6*D6*E6*0.000001 -> 0 | N6: Нет | O6: =C6*D6*E6/1000000 -> 0 | R6: 1 кат.матовая-2-х сторонняя
A7: 4 | K7: =C7*D7*E7*0.000001 -> 0 | N7: Нет | O7: =C7*D7*E7/1000000 -> 0 | R7: 1 кат.Глянец
A8: 5 | K8: =C8*D8*E8*0.000001 -> 0 | N8: Нет | O8: =C8*D8*E8/1000000 -> 0 | R8: 1 кат. Промежуточной шлифовки Глянец
A9: 6 | K9: =C9*D9*E9*0.000001 -> 0 | N9: Нет | O9: =C9*D9*E9/1000000 -> 0 | R9: 1 кат. Промежуточной шлифовки Глянец с -2 х сторон
A10: 7 | K10: =C10*D10*E10*0.000001 -> 0 | N10: Нет | O10: =C10*D10*E10/1000000 -> 0 | R10: 1 кат. Промежуточной шлифовки Глянец+тыл матовый
A11: 8 | K11: =C11*D11*E11*0.000001 -> 0 | N11: Нет | O11: =C11*D11*E11/1000000 -> 0 | R11: 1 кат. Промежуточной шлифовки Глянец с -2 х сторон
A12: 9 | K12: =C12*D12*E12*0.000001 -> 0 | N12: Нет | O12: =C12*D12*E12/1000000 -> 0 | R12: Обычные ВИТРИНЫ + обратная сторона
A13: 10 | K13: =C13*D13*E13*0.000001 -> 0 | N13: Нет | O13: =C13*D13*E13/1000000 -> 0 | R13: Сложные ВИТРИНЫ + обратная сторона
A14: 11 | K14: =C14*D14*E14*0.000001 -> 0 | N14: Нет | O14: =C14*D14*E14/1000000 -> 0 | R14: Нет
A15: 12 | K15: =C15*D15*E15*0.000001 -> 0 | N15: Нет | O15: =C15*D15*E15/1000000 -> 0 | R15: Нет
A16: 13 | K16: =C16*D16*E16*0.000001 -> 0 | N16: Нет | O16: =C16*D16*E16/1000000 -> 0 | R16: Нет
... A21: 18 | K21: =C21*D21*E21*0.000001 -> 0 | N21: Нет | O21: =C21*D21*E21/1000000 -> 0 | R21: Нет
A22: 19 | K22: =C22*D22*E22*0.000001 -> 0 | N22: Нет | O22: =C22*D22*E22/1000000 -> 0
A23: 20 | K23: =C23*D23*E23*0.000001 -> 0 | N23: Нет | O23: =C23*D23*E23/1000000 -> 0
A24: 20 | K24: =C24*D24*E24*0.000001 -> 0 | N24: Нет | O24: =C24*D24*E24/1000000 -> 0
A25: штук | E25: =SUM(E4:E24) -> 1 | I25: площадь | K25: =SUM(K4:K24) -> 0.141176 | O25: =C25*D25*E25/1000000 -> 0

Sheet Работы в малярке
C1: расценки,технология нанесения эмали PDF для печати | D1: КАТЕГОРИЯ 1-прямые фасады:R-2,3 и.т.д.+ с любой фаской
D2: КАТЕГОРИЯ 2-ФАСАДЫ ЧПУ ПРОСТЫЕ: Интегрированная ручка,ЧПУ по типу Алсу
D3: КАТЕГОРИЯ 3- ФАСАДЫ ЧПУ СЛОЖНЫЕ
D4: КАТЕГОРИЯ 4-ФАСАДЫ ЧПУ АЖУРНЫЕ
D5: Обратная сторона ВИТРИНЫ покраска в грунт где выборка четверти КАТЕГОРИЯ 1
D6: Обратная сторона ВИТРИНЫ покраска в грунт где выборка четверти КАТЕГОРИЯ 3;4
A7: сложность работ сделаны исполнителем | D7: 2 кат.матовая | E7: Исполнитель | F7: Нет | G7: Исполнитель | H7: Нет | I7: Исполнитель | J7: Нет | K7: Исполнитель | L7: Нет | M7: Исполнитель | N7: Нет | O7: Исполнитель | P7: Нет | Q7: Исполнитель
A8: итого м2 | D8: =SUMIFS('Цех малярки'!$O:$O,'Цех малярки'!$N:$N,D7) -> 0.141176 | F8: =SUMIFS('Цех малярки'!$O:$O,'Цех малярки'!$N:$N,F7) -> 0 | H8: =SUMIFS('Цех малярки'!$O:$O,'Цех малярки'!$N:$N,H7) -> 0 | J8: =SUMIFS('Цех малярки'!$O:$O,'Цех малярки'!$N:$N,J7) -> 0 | L8: =SUMIFS('Цех малярки'!$O:$O,'Цех малярки'!$N:$N,L7) -> 0 | N8: =SUMIFS('Цех малярки'!$O:$O,'Цех малярки'!$N:$N,N7) -> 0 | P8: =SUMIFS('Цех малярки'!$O:$O,'Цех малярки'!$N:$N,P7) -> 0 | R8: =SUM(D8:Q8) -> 0.141176
C9: Вид работ
B10: 1 | C10: Шлифовка 0 | D10: {=(INDEX('Расценки '!$D$9:$AN$28,MATCH('Работы в малярке'!$C10,'Расценки '!$C$9:$C$31,0),MATCH('Работы в малярке'!D$7,'Расценки '!$D$8:$AN$8,0)))*D$8} -> 19.76464 | F10: {=(INDEX('Расценки '!$D$9:$AN$28,MATCH('Работы в малярке'!$C10,'Расценки '!$C$9:$C$31,0),MATCH('Работы в малярке'!F$7,'Расценки '!$D$8:$AN$8,0)))*F$8} -> 0 | H10: {=(INDEX('Расценки '!$D$9:$AN$28,MATCH('Работы в малярке'!$C10,'Расценки '!$C$9:$C$31,0),MATCH('Работы в малярке'!H$7,'Расценки '!$D$8:$AN$8,0)))*H$8} -> 0 | J10: {=(INDEX('Расценки '!$D$9:$AN$28,MATCH('Работы в малярке'!$C10,'Расценки '!$C$9:$C$31,0),MATCH('Работы в малярке'!J$7,'Расценки '!$D$8:$AN$8,0)))*J$8} -> 0 | L10: {=(INDEX('Расценки '!$D$9:$AN$28,MATCH('Работы в малярке'!$C10,'Расценки '!$C$9:$C$31,0),MATCH('Работы в малярке'!L$7,'Расценки '!$D$8:$AN$8,0)))*L$8} -> 0 | N10: {=(INDEX('Расценки '!$D$9:$AN$28,MATCH('Работы в малярке'!$C10,'Расценки '!$C$9:$C$31,0),MATCH('Работы в малярке'!N$7,'Расценки '!$D$8:$AN$8,0)))*N$8} -> 0 | P10: {=(INDEX('Расценки '!$D$9:$AN$28,MATCH('Работы в малярке'!$C10,'Расценки '!$C$9:$C$31,0),MATCH('Работы в малярке'!P$7,'Расценки '!$D$8:$AN$8,0)))*P$8} -> 0
B11: 2 | C11: Шлифовка 0 + шпаклевка | D11: {=(INDEX('Расценки '!$D$9:$AN$28,MATCH('Работы в малярке'!$C11,'Расценки '!$C$9:$C$31,0),MATCH('Работы в малярке'!D$7,'Расценки '!$D$8:$AN$8,0)))*D$8} -> 0 | F11: {=(INDEX('Расценки '!$D$9:$AN$28,MATCH('Работы в малярке'!$C11,'Расценки '!$C$9:$C$31,0),MATCH('Работы в малярке'!F$7,'Расценки '!$D$8:$AN$8,0)))*F$8} -> 0 | H11: {=(INDEX('Расценки '!$D$9:$AN$28,MATCH('Работы в малярке'!$C11,'Расценки '!$C$9:$C$31,0),MATCH('Работы в малярке'!H$7,'Расценки '!$D$8:$AN$8,0)))*H$8} -> 0 | J11: {=(INDEX('Расценки '!$D$9:$AN$28,MATCH('Работы в малярке'!$C11,'Расценки '!$C$9:$C$31,0),MATCH('Работы в малярке'!J$7,'Расценки '!$D$8:$AN$8,0)))*J$8} -> 0 | L11: {=(INDEX('Расценки '!$D$9:$AN$28,MATCH('Работы в малярке'!$C11,'Расценки '!$C$9:$C$31,0),MATCH('Работы в малярке'!L$7,'Расценки '!$D$8:$AN$8,0)))*L$8} -> 0 | N11: {=(INDEX('Расценки '!$D$9:$AN$28,MATCH('Работы в малярке'!$C11,'Расценки '!$C$9:$C$31,0),MATCH('Работы в малярке'!N$7,'Расценки '!$D$8:$AN$8,0)))*N$8} -> 0 | P11: {=(INDEX('Расценки '!$D$9:$AN$28,MATCH('Работы в малярке'!$C11,'Расценки '!$C$9:$C$31,0),MATCH('Работы в малярке'!P$7,'Расценки '!$D$8:$AN$8,0)))*P$8} -> 0
B12: 3 | C12: Шлифовка 1(после 1-го грунта) | D12: {=(INDEX('Расценки '!$D$9:$AN$28,MATCH('Работы в малярке'!$C12,'Расценки '!$C$9:$C$31,0),MATCH('Работы в малярке'!D$7,'Расценки '!$D$8:$AN$8,0)))*D$8} -> 19.76464 | F12: {=(INDEX('Расценки '!$D$9:$AN$28,MATCH('Работы в малярке'!$C12,'Расценки '!$C$9:$C$31,0),MATCH('Работы в малярке'!F$7,'Расценки '!$D$8:$AN$8,0)))*F$8} -> 0 | H12: {=(INDEX('Расценки '!$D$9:$AN$28,MATCH('Работы в малярке'!$C12,'Расценки '!$C$9:$C$31,0),MATCH('Работы в малярке'!H$7,'Расценки '!$D$8:$AN$8,0)))*H$8} -> 0 | J12: {=(INDEX('Расценки '!$D$9:$AN$28,MATCH('Работы в малярке'!$C12,'Расценки '!$C$9:$C$31,0),MATCH('Работы в малярке'!J$7,'Расценки '!$D$8:$AN$8,0)))*J$8} -> 0 | L12: {=(INDEX('Расценки '!$D$9:$AN$28,MATCH('Работы в малярке'!$C12,'Расценки '!$C$9:$C$31,0),MATCH('Работы в малярке'!L$7,'Расценки '!$D$8:$AN$8,0)))*L$8} -> 0 | N12: {=(INDEX('Расценки '!$D$9:$AN$28,MATCH('Работы в малярке'!$C12,'Расценки '!$C$9:$C$31,0),MATCH('Работы в малярке'!N$7,'Расценки '!$D$8:$AN$8,0)))*N$8} -> 0 | P12: {=(INDEX('Расценки '!$D$9:$AN$28,MATCH('Работы в малярке'!$C12,'Расценки '!$C$9:$C$31,0),MATCH('Работы в малярке'!P$7,'Расценки '!$D$8:$AN$8,0)))*P$8} -> 0
B13: 4 | C13: Шлифовка 2(под покраску) | D13: {=(INDEX('Расценки '!$D$9:$AN$28,MATCH('Работы в малярке'!$C13,'Расценки '!$C$9:$C$31,0),MATCH('Работы в малярке'!D$7,'Расценки '!$D$8:$AN$8,0)))*D$8} -> 25.41168 | F13: {=(INDEX('Расценки '!$D$9:$AN$28,MATCH('Работы в малярке'!$C13,'Расценки '!$C$9:$C$31,0),MATCH('Работы в малярке'!F$7,'Расценки '!$D$8:$AN$8,0)))*F$8} -> 0 | H13: {=(INDEX('Расценки '!$D$9:$AN$28,MATCH('Работы в малярке'!$C13,'Расценки '!$C$9:$C$31,0),MATCH('Работы в малярке'!H$7,'Расценки '!$D$8:$AN$8,0)))*H$8} -> 0 | J13: {=(INDEX('Расценки '!$D$9:$AN$28,MATCH('Работы в малярке'!$C13,'Расценки '!$C$9:$C$31,0),MATCH('Работы в малярке'!J$7,'Расценки '!$D$8:$AN$8,0)))*J$8} -> 0 | L13: {=(INDEX('Расценки '!$D$9:$AN$28,MATCH('Работы в малярке'!$C13,'Расценки '!$C$9:$C$31,0),MATCH('Работы в малярке'!L$7,'Расценки '!$D$8:$AN$8,0)))*L$8} -> 0 | N13: {=(INDEX('Расценки '!$D$9:$AN$28,MATCH('Работы в малярке'!$C13,'Расценки '!$C$9:$C$31,0),MATCH('Работы в малярке'!N$7,'Расценки '!$D$8:$AN$8,0)))*N$8} -> 0 | P13: {=(INDEX('Расценки '!$D$9:$AN$28,MATCH('Работы в малярке'!$C13,'Расценки '!$C$9:$C$31,0),MATCH('Работы в малярке'!P$7,'Расценки '!$D$8:$AN$8,0)))*P$8} -> 0
B14: 5 | C14: Нанесения 1-го грунта | D14: {=(INDEX('Расценки '!$D$9:$AN$28,MATCH('Работы в малярке'!$C14,'Расценки '!$C$9:$C$31,0),MATCH('Работы в малярке'!D$7,'Расценки '!$D$8:$AN$8,0)))*D$8} -> 18.35288 | F14: {=(INDEX('Расценки '!$D$9:$AN$28,MATCH('Работы в малярке'!$C14,'Расценки '!$C$9:$C$31,0),MATCH('Работы в малярке'!F$7,'Расценки '!$D$8:$AN$8,0)))*F$8} -> 0 | H14: {=(INDEX('Расценки '!$D$9:$AN$28,MATCH('Работы в малярке'!$C14,'Расценки '!$C$9:$C$31,0),MATCH('Работы в малярке'!H$7,'Расценки '!$D$8:$AN$8,0)))*H$8} -> 0 | J14: {=(INDEX('Расценки '!$D$9:$AN$28,MATCH('Работы в малярке'!$C14,'Расценки '!$C$9:$C$31,0),MATCH('Работы в малярке'!J$7,'Расценки '!$D$8:$AN$8,0)))*J$8} -> 0 | L14: {=(INDEX('Расценки '!$D$9:$AN$28,MATCH('Работы в малярке'!$C14,'Расценки '!$C$9:$C$31,0),MATCH('Работы в малярке'!L$7,'Расценки '!$D$8:$AN$8,0)))*L$8} -> 0 | N14: {=(INDEX('Расценки '!$D$9:$AN$28,MATCH('Работы в малярке'!$C14,'Расценки '!$C$9:$C$31,0),MATCH('Работы в малярке'!N$7,'Расценки '!$D$8:$AN$8,0)))*N$8} -> 0 | P14: {=(INDEX('Расценки '!$D$9:$AN$28,MATCH('Работы в малярке'!$C14,'Расценки '!$C$9:$C$31,0),MATCH('Работы в малярке'!P$7,'Расценки '!$D$8:$AN$8,0)))*P$8} -> 0
B15: 6 | C15: Нанесения 2-го грунта | D15: {=(INDEX('Расценки '!$D$9:$AN$28,MATCH('Работы в малярке'!$C15,'Расценки '!$C$9:$C$31,0),MATCH('Работы в малярке'!D$7,'Расценки '!$D$8:$AN$8,0)))*D$8} -> 18.35288 | F15: {=(INDEX('Расценки '!$D$9:$AN$28,MATCH('Работы в малярке'!$C15,'Расценки '!$C$9:$C$31,0),MATCH('Работы в малярке'!F$7,'Расценки '!$D$8:$AN$8,0)))*F$8} -> 0 | H15: {=(INDEX('Расценки '!$D$9:$AN$28,MATCH('Работы в малярке'!$C15,'Расценки '!$C$9:$C$31,0),MATCH('Работы в малярке'!H$7,'Расценки '!$D$8:$AN$8,0)))*H$8} -> 0 | J15: {=(INDEX('Расценки '!$D$9:$AN$28,MATCH('Работы в малярке'!$C15,'Расценки '!$C$9:$C$31,0),MATCH('Работы в малярке'!J$7,'Расценки '!$D$8:$AN$8,0)))*J$8} -> 0 | L15: {=(INDEX('Расценки '!$D$9:$AN$28,MATCH('Работы в малярке'!$C15,'Расценки '!$C$9:$C$31,0),MATCH('Работы в малярке'!L$7,'Расценки '!$D$8:$AN$8,0)))*L$8} -> 0 | N15: {=(INDEX('Расценки '!$D$9:$AN$28,MATCH('Работы в малярке'!$C15,'Расценки '!$C$9:$C$31,0),MATCH('Работы в малярке'!N$7,'Расценки '!$D$8:$AN$8,0)))*N$8} -> 0 | P15: {=(INDEX('Расценки '!$D$9:$AN$28,MATCH('Работы в малярке'!$C15,'Расценки '!$C$9:$C$31,0),MATCH('Работы в малярке'!P$7,'Расценки '!$D$8:$AN$8,0)))*P$8} -> 0
B16: 7 | C16: Нанесения проявки | D16: {=(INDEX('Расценки '!$D$9:$AN$28,MATCH('Работы в малярке'!$C16,'Расценки '!$C$9:$C$31,0),MATCH('Работы в малярке'!D$7,'Расценки '!$D$8:$AN$8,0)))*D$8} -> 7.0588 | F16: {=(INDEX('Расценки '!$D$9:$AN$28,MATCH('Работы в малярке'!$C16,'Расценки '!$C$9:$C$31,0),MATCH('Работы в малярке'!F$7,'Расценки '!$D$8:$AN$8,0)))*F$8} -> 0 | H16: {=(INDEX('Расценки '!$D$9:$AN$28,MATCH('Работы в малярке'!$C16,'Расценки '!$C$9:$C$31,0),MATCH('Работы в малярке'!H$7,'Расценки '!$D$8:$AN$8,0)))*H$8} -> 0 | J16: {=(INDEX('Расценки '!$D$9:$AN$28,MATCH('Работы в малярке'!$C16,'Расценки '!$C$9:$C$31,0),MATCH('Работы в малярке'!J$7,'Расценки '!$D$8:$AN$8,0)))*J$8} -> 0 | L16: {=(INDEX('Расценки '!$D$9:$AN$28,MATCH('Работы в малярке'!$C16,'Расценки '!$C$9:$C$31,0),MATCH('Работы в малярке'!L$7,'Расценки '!$D$8:$AN$8,0)))*L$8} -> 0 | N16: {=(INDEX('Расценки '!$D$9:$AN$28,MATCH('Работы в малярке'!$C16,'Расценки '!$C$9:$C$31,0),MATCH('Работы в малярке'!N$7,'Расценки '!$D$8:$AN$8,0)))*N$8} -> 0 | P16: {=(INDEX('Расценки '!$D$9:$AN$28,MATCH('Работы в малярке'!$C16,'Расценки '!$C$9:$C$31,0),MATCH('Работы в малярке'!P$7,'Расценки '!$D$8:$AN$8,0)))*P$8} -> 0
B17: 8 | C17: Нанесения эмали | D17: {=(INDEX('Расценки '!$D$9:$AN$28,MATCH('Работы в малярке'!$C17,'Расценки '!$C$9:$C$31,0),MATCH('Работы в малярке'!D$7,'Расценки '!$D$8:$AN$8,0)))*D$8} -> 32.47048 | F17: {=(INDEX('Расценки '!$D$9:$AN$28,MATCH('Работы в малярке'!$C17,'Расценки '!$C$9:$C$31,0),MATCH('Работы в малярке'!F$7,'Расценки '!$D$8:$AN$8,0)))*F$8} -> 0 | H17: {=(INDEX('Расценки '!$D$9:$AN$28,MATCH('Работы в малярке'!$C17,'Расценки '!$C$9:$C$31,0),MATCH('Работы в малярке'!H$7,'Расценки '!$D$8:$AN$8,0)))*H$8} -> 0 | J17: {=(INDEX('Расценки '!$D$9:$AN$28,MATCH('Работы в малярке'!$C17,'Расценки '!$C$9:$C$31,0),MATCH('Работы в малярке'!J$7,'Расценки '!$D$8:$AN$8,0)))*J$8} -> 0 | L17: {=(INDEX('Расценки '!$D$9:$AN$28,MATCH('Работы в малярке'!$C17,'Расценки '!$C$9:$C$31,0),MATCH('Работы в малярке'!L$7,'Расценки '!$D$8:$AN$8,0)))*L$8} -> 0 | N17: {=(INDEX('Расценки '!$D$9:$AN$28,MATCH('Работы в малярке'!$C17,'Расценки '!$C$9:$C$31,0),MATCH('Работы в малярке'!N$7,'Расценки '!$D$8:$AN$8,0)))*N$8} -> 0 | P17: {=(INDEX('Расценки '!$D$9:$AN$28,MATCH('Работы в малярке'!$C17,'Расценки '!$C$9:$C$31,0),MATCH('Работы в малярке'!P$7,'Расценки '!$D$8:$AN$8,0)))*P$8} -> 0
B18: 9 | C18: Нанесения Лака | D18: {=(INDEX('Расценки '!$D$9:$AN$28,MATCH('Работы в малярке'!$C18,'Расценки '!$C$9:$C$31,0),MATCH('Работы в малярке'!D$7,'Расценки '!$D$8:$AN$8,0)))*D$8} -> 0 | F18: {=(INDEX('Расценки '!$D$9:$AN$28,MATCH('Работы в малярке'!$C18,'Расценки '!$C$9:$C$31,0),MATCH('Работы в малярке'!F$7,'Расценки '!$D$8:$AN$8,0)))*F$8} -> 0 | H18: {=(INDEX('Расценки '!$D$9:$AN$28,MATCH('Работы в малярке'!$C18,'Расценки '!$C$9:$C$31,0),MATCH('Работы в малярке'!H$7,'Расценки '!$D$8:$AN$8,0)))*H$8} -> 0 | J18: {=(INDEX('Расценки '!$D$9:$AN$28,MATCH('Работы в малярке'!$C18,'Расценки '!$C$9:$C$31,0),MATCH('Работы в малярке'!J$7,'Расценки '!$D$8:$AN$8,0)))*J$8} -> 0 | L18: {=(INDEX('Расценки '!$D$9:$AN$28,MATCH('Работы в малярке'!$C18,'Расценки '!$C$9:$C$31,0),MATCH('Работы в малярке'!L$7,'Расценки '!$D$8:$AN$8,0)))*L$8} -> 0 | N18: {=(INDEX('Расценки '!$D$9:$AN$28,MATCH('Работы в малярке'!$C18,'Расценки '!$C$9:$C$31,0),MATCH('Работы в малярке'!N$7,'Расценки '!$D$8:$AN$8,0)))*N$8} -> 0 | P18: {=(INDEX('Расценки '!$D$9:$AN$28,MATCH('Работы в малярке'!$C18,'Расценки '!$C$9:$C$31,0),MATCH('Работы в малярке'!P$7,'Расценки '!$D$8:$AN$8,0)))*P$8} -> 0
B19: 10 | C19: Шлифовка под лак | D19: {=(INDEX('Расценки '!$D$9:$AN$28,MATCH('Работы в малярке'!$C19,'Расценки '!$C$9:$C$31,0),MATCH('Работы в малярке'!D$7,'Расценки '!$D$8:$AN$8,0)))*D$8} -> 0 | F19: {=(INDEX('Расценки '!$D$9:$AN$28,MATCH('Работы в малярке'!$C19,'Расценки '!$C$9:$C$31,0),MATCH('Работы в малярке'!F$7,'Расценки '!$D$8:$AN$8,0)))*F$8} -> 0 | H19: {=(INDEX('Расценки '!$D$9:$AN$28,MATCH('Работы в малярке'!$C19,'Расценки '!$C$9:$C$31,0),MATCH('Работы в малярке'!H$7,'Расценки '!$D$8:$AN$8,0)))*H$8} -> 0 | J19: {=(INDEX('Расценки '!$D$9:$AN$28,MATCH('Работы в малярке'!$C19,'Расценки '!$C$9:$C$31,0),MATCH('Работы в малярке'!J$7,'Расценки '!$D$8:$AN$8,0)))*J$8} -> 0 | L19: {=(INDEX('Расценки '!$D$9:$AN$28,MATCH('Работы в малярке'!$C19,'Расценки '!$C$9:$C$31,0),MATCH('Работы в малярке'!L$7,'Расценки '!$D$8:$AN$8,0)))*L$8} -> 0 | N19: {=(INDEX('Расценки '!$D$9:$AN$28,MATCH('Работы в малярке'!$C19,'Расценки '!$C$9:$C$31,0),MATCH('Работы в малярке'!N$7,'Расценки '!$D$8:$AN$8,0)))*N$8} -> 0 | P19: {=(INDEX('Расценки '!$D$9:$AN$28,MATCH('Работы в малярке'!$C19,'Расценки '!$C$9:$C$31,0),MATCH('Работы в малярке'!P$7,'Расценки '!$D$8:$AN$8,0)))*P$8} -> 0
B20: 11 | C20: Нанесения Лака 2-Й слой | D20: {=(INDEX('Расценки '!$D$9:$AN$28,MATCH('Работы в малярке'!$C20,'Расценки '!$C$9:$C$31,0),MATCH('Работы в малярке'!D$7,'Расценки '!$D$8:$AN$8,0)))*D$8} -> 0 | F20: {=(INDEX('Расценки '!$D$9:$AN$28,MATCH('Работы в малярке'!$C20,'Расценки '!$C$9:$C$31,0),MATCH('Работы в малярке'!F$7,'Расценки '!$D$8:$AN$8,0)))*F$8} -> 0 | H20: {=(INDEX('Расценки '!$D$9:$AN$28,MATCH('Работы в малярке'!$C20,'Расценки '!$C$9:$C$31,0),MATCH('Работы в малярке'!H$7,'Расценки '!$D$8:$AN$8,0)))*H$8} -> 0 | J20: {=(INDEX('Расценки '!$D$9:$AN$28,MATCH('Работы в малярке'!$C20,'Расценки '!$C$9:$C$31,0),MATCH('Работы в малярке'!J$7,'Расценки '!$D$8:$AN$8,0)))*J$8} -> 0 | L20: {=(INDEX('Расценки '!$D$9:$AN$28,MATCH('Работы в малярке'!$C20,'Расценки '!$C$9:$C$31,0),MATCH('Работы в малярке'!L$7,'Расценки '!$D$8:$AN$8,0)))*L$8} -> 0 | N20: {=(INDEX('Расценки '!$D$9:$AN$28,MATCH('Работы в малярке'!$C20,'Расценки '!$C$9:$C$31,0),MATCH('Работы в малярке'!N$7,'Расценки '!$D$8:$AN$8,0)))*N$8} -> 0 | P20: {=(INDEX('Расценки '!$D$9:$AN$28,MATCH('Работы в малярке'!$C20,'Расценки '!$C$9:$C$31,0),MATCH('Работы в малярке'!P$7,'Расценки '!$D$8:$AN$8,0)))*P$8} -> 0
B21: 12 | C21: Полировка | D21: {=(INDEX('Расценки '!$D$9:$AN$28,MATCH('Работы в малярке'!$C21,'Расценки '!$C$9:$C$31,0),MATCH('Работы в малярке'!D$7,'Расценки '!$D$8:$AN$8,0)))*D$8} -> 0 | F21: {=(INDEX('Расценки '!$D$9:$AN$28,MATCH('Работы в малярке'!$C21,'Расценки '!$C$9:$C$31,0),MATCH('Работы в малярке'!F$7,'Расценки '!$D$8:$AN$8,0)))*F$8} -> 0 | H21: {=(INDEX('Расценки '!$D$9:$AN$28,MATCH('Работы в малярке'!$C21,'Расценки '!$C$9:$C$31,0),MATCH('Работы в малярке'!H$7,'Расценки '!$D$8:$AN$8,0)))*H$8} -> 0 | J21: {=(INDEX('Расценки '!$D$9:$AN$28,MATCH('Работы в малярке'!$C21,'Расценки '!$C$9:$C$31,0),MATCH('Работы в малярке'!J$7,'Расценки '!$D$8:$AN$8,0)))*J$8} -> 0 | L21: {=(INDEX('Расценки '!$D$9:$AN$28,MATCH('Работы в малярке'!$C21,'Расценки '!$C$9:$C$31,0),MATCH('Работы в малярке'!L$7,'Расценки '!$D$8:$AN$8,0)))*L$8} -> 0 | N21: {=(INDEX('Расценки '!$D$9:$AN$28,MATCH('Работы в малярке'!$C21,'Расценки '!$C$9:$C$31,0),MATCH('Работы в малярке'!N$7,'Расценки '!$D$8:$AN$8,0)))*N$8} -> 0 | P21: {=(INDEX('Расценки '!$D$9:$AN$28,MATCH('Работы в малярке'!$C21,'Расценки '!$C$9:$C$31,0),MATCH('Работы в малярке'!P$7,'Расценки '!$D$8:$AN$8,0)))*P$8} -> 0
... B29: 20 | C29: Упаковка картон | D29: {=(INDEX('Расценки '!$D$9:$AN$28,MATCH('Работы в малярке'!$C29,'Расценки '!$C$9:$C$31,0),MATCH('Работы в малярке'!D$7,'Расценки '!$D$8:$AN$8,0)))*D$8} -> 14.1176 | F29: {=(INDEX('Расценки '!$D$9:$AN$28,MATCH('Работы в малярке'!$C29,'Расценки '!$C$9:$C$31,0),MATCH('Работы в малярке'!F$7,'Расценки '!$D$8:$AN$8,0)))*F$8} -> 0 | H29: {=(INDEX('Расценки '!$D$9:$AN$28,MATCH('Работы в малярке'!$C29,'Расценки '!$C$9:$C$31,0),MATCH('Работы в малярке'!H$7,'Расценки '!$D$8:$AN$8,0)))*H$8} -> 0 | J29: {=(INDEX('Расценки '!$D$9:$AN$28,MATCH('Работы в малярке'!$C29,'Расценки '!$C$9:$C$31,0),MATCH('Работы в малярке'!J$7,'Расценки '!$D$8:$AN$8,0)))*J$8} -> 0 | L29: {=(INDEX('Расценки '!$D$9:$AN$28,MATCH('Работы в малярке'!$C29,'Расценки '!$C$9:$C$31,0),MATCH('Работы в малярке'!L$7,'Расценки '!$D$8:$AN$8,0)))*L$8} -> 0 | N29: {=(INDEX('Расценки '!$D$9:$AN$28,MATCH('Работы в малярке'!$C29,'Расценки '!$C$9:$C$31,0),MATCH('Работы в малярке'!N$7,'Расценки '!$D$8:$AN$8,0)))*N$8} -> 0 | P29: {=(INDEX('Расценки '!$D$9:$AN$28,MATCH('Работы в малярке'!$C29,'Расценки '!$C$9:$C$31,0),MATCH('Работы в малярке'!P$7,'Расценки '!$D$8:$AN$8,0)))*P$8} -> 0
C30: итого сделка ЗП.₽ | D30: =SUM(D10:D29) -> 165.8818 | F30: =SUM(F10:F29) -> 0 | H30: =SUM(H10:H29) -> 0 | J30: =SUM(J10:J29) -> 0 | L30: =SUM(L10:L29) -> 0 | N30: =SUM(N10:N29) -> 0 | P30: =SUM(P10:P29) -> 0 | R30: =SUM(D30:Q30) -> 165.8818

Sheet Расценки 
C1: расценки,технология нанесения эмали PDF для печати | D1: КАТЕГОРИЯ 1-прямые фасады:R-2,3 и.т.д.+ с любой фаской
D2: КАТЕГОРИЯ 2-ФАСАДЫ ЧПУ ПРОСТЫЕ: Интегрированная ручка,ЧПУ по типу Алсу
D3: КАТЕГОРИЯ 3- ФАСАДЫ ЧПУ СЛОЖНЫЕ
D4: КАТЕГОРИЯ 4-ФАСАДЫ ЧПУ АЖУРНЫЕ
D5: Обратная сторона ВИТРИНЫ покраска в грунт где выборка четверти КАТЕГОРИЯ 1
D6: Обратная сторона ВИТРИНЫ покраска в грунт где выборка четверти КАТЕГОРИЯ 3;4
C8: Категория по работам | D8: 1 кат.матовая | E8: 1 кат. с прокрасом по внутренней части на 50 мм по периметру | F8: 1 кат.матовая-2-х сторонняя | G8: 1 кат.Глянец | H8: 1 кат. Промежуточной шлифовки Глянец | I8: 1 кат. Промежуточной шлифовки Глянец+тыл матовый | J8: 1 кат. Промежуточной шлифовки Глянец с -2 х сторон | K8: 2 кат.матовая | L8: 2 кат. Двух сторон матовая | M8: 2 кат.Глянец | N8: 2 кат. Промежуточной шлифовки Глянец | O8: 2 кат.патина матовая | P8: 3 кат. матовая | Q8: 3 кат. Двух сторон матовая | R8: 3 кат. Матовая Витрины | S8: 3 кат.Глянец витрины | T8: 3 кат.Глянец | U8: 3 кат.с промежуточной шлифовкойГлянец | V8: 4 кат. матовая | W8: 4 кат. +шпакловка + лак матовая | X8: 4 кат. Двух сторон матовая | Y8: 4 кат.Глянец | Z8: 4 кат.патина матовая | AA8: 3 д панели.Глянец | AB8: Обычные ВИТРИНЫ + обратная сторона | AC8: Сложные ВИТРИНЫ + обратная сторона | AD8: прямые шпон под лак 1- сторонняя | AE8: прямые шпон под лак 2-х сторонняя | AF8: Реечные шпон под лак 2-х сторонняя | AG8: прямые шпон тонировка | AH8: прямые шпон тонировка 2-х сторонн | AI8: Глянец шпон закрытые поры | AJ8: Глянец шпон закрытые поры 2-ст мат. | AK8: прямые шпон патина под лак | AL8: прямые шпон патина с -2х сторон под лак | AM8: прямые шпон марилка патина с -2х сторон под лак | AN8: Нет
B9: 1 | C9: Шлифовка 0 | D9: 100 | E9: 140 | F9: 200 | G9: 100 | H9: 100 | I9: 200 | J9: 200 | K9: 140 | L9: 240 | M9: 140 | N9: 140 | O9: 140 | P9: 180 | Q9: 280 | R9: 280 | S9: 280 | T9: 180 | U9: 180 | V9: 230 | W9: 230 | X9: 330 | Y9: 230 | Z9: 230 | AA9: 230 | AB9: 160 | AC9: 230 | AD9: 150 | AE9: 300 | AF9: 400 | AG9: 150 | AH9: 300 | AI9: 150 | AJ9: 300 | AK9: 150 | AL9: 300 | AM9: 300
B10: 2 | C10: Шлифовка 0 + шпаклевка | W10: 100
B11: 3 | C11: Шлифовка 1(после 1-го грунта) | D11: 110 | E11: 140 | F11: 220 | G11: 110 | H11: 110 | I11: 220 | J11: 220 | K11: 140 | L11: 250 | M11: 140 | N11: 140 | O11: 140 | P11: 210 | Q11: 320 | R11: 320 | S11: 320 | T11: 210 | U11: 210 | V11: 230 | W11: 230 | X11: 340 | Y11: 230 | Z11: 230 | AA11: 230 | AB11: 160 | AC11: 260 | AI11: 80
B12: 4 | C12: Шлифовка 2(под покраску) | D12: 140 | E12: 190 | F12: 280 | G12: 140 | H12: 140 | I12: 280 | J12: 280 | K12: 180 | L12: 320 | M12: 180 | N12: 180 | O12: 180 | P12: 230 | Q12: 370 | R12: 370 | S12: 370 | T12: 230 | U12: 230 | V12: 280 | W12: 280 | X12: 420 | Y12: 280 | Z12: 280 | AA12: 280 | AB12: 210 | AC12: 310 | AD12: 100 | AE12: 200 | AF12: 300 | AG12: 100 | AH12: 200 | AI12: 110 | AJ12: 200 | AK12: 100 | AL12: 200 | AM12: 200
B13: 5 | C13: Нанесения 1-го грунта | D13: 80 | E13: 140 | F13: 160 | G13: 80 | H13: 80 | I13: 160 | J13: 160 | K13: 130 | L13: 130 | M13: 130 | N13: 130 | O13: 130 | P13: 130 | Q13: 130 | R13: 210 | S13: 210 | T13: 130 | U13: 130 | V13: 130 | W13: 130 | X13: 130 | Y13: 130 | Z13: 130 | AA13: 130 | AB13: 160 | AC13: 210 | AD13: 40 | AE13: 80 | AF13: 80 | AG13: 80 | AH13: 80 | AI13: 80 | AJ13: 160 | AK13: 80 | AL13: 160 | AM13: 160
B14: 6 | C14: Нанесения 2-го грунта | D14: 80 | E14: 140 | F14: 160 | G14: 80 | H14: 80 | I14: 160 | J14: 160 | K14: 130 | L14: 130 | M14: 130 | N14: 130 | O14: 130 | P14: 130 | Q14: 130 | R14: 210 | S14: 210 | T14: 130 | U14: 130 | V14: 130 | W14: 130 | X14: 130 | Y14: 130 | Z14: 130 | AA14: 130 | AB14: 160 | AC14: 210 | AI14: 80
B15: 7 | C15: Нанесения проявки | D15: 50 | E15: 50 | F15: 50 | G15: 50 | H15: 50 | I15: 100 | J15: 100 | K15: 50 | L15: 50 | M15: 50 | N15: 50 | O15: 50 | P15: 50 | Q15: 50 | R15: 50 | S15: 50 | T15: 50 | U15: 50 | V15: 50 | W15: 50 | X15: 50 | Y15: 50 | Z15: 50 | AA15: 50 | AC15: 100
B16: 8 | C16: Нанесения эмали | D16: 170 | E16: 250 | F16: 340 | G16: 170 | H16: 170 | I16: 340 | J16: 300 | K16: 230 | L16: 400 | M16: 230 | N16: 230 | O16: 230 | P16: 250 | Q16: 420 | R16: 250 | S16: 250 | T16: 250 | U16: 250 | V16: 250 | W16: 250 | X16: 420 | Y16: 250 | Z16: 250 | AA16: 250 | AB16: 300 | AC16: 300 | AG16: 200 | AH16: 400 | AM16: 400
B17: 9 | C17: Нанесения Лака | G17: 120 | H17: 120 | I17: 120 | J17: 240 | M17: 120 | N17: 120 | O17: 120 | S17: 120 | T17: 120 | U17: 120 | Y17: 120 | Z17: 120 | AA17: 120 | AD17: 120 | AE17: 240 | AF17: 240 | AG17: 120 | AH17: 240 | AI17: 120 | AJ17: 240 | AK17: 120 | AL17: 240 | AM17: 240
B18: 10 | C18: Шлифовка под лак | H18: 120 | I18: 120 | J18: 240 | N18: 120 | U18: 120 | AI18: 80 | AJ18: 80
B19: 11 | C19: Нанесения Лака 2-Й слой | H19: 120 | I19: 120 | J19: 240 | N19: 120 | U19: 120
B20: 12 | C20: Полировка | G20: 250 | H20: 250 | I20: 250 | J20: 500 | M20: 300 | N20: 300 | S20: 300 | T20: 300 | U20: 300 | Y20: 350 | AI20: 300 | AJ20: 300
B21: 13 | C21: Нанесения Патины | O21: 70 | Z21: 70 | AK21: 70 | AL21: 140 | AM21: 140
B22: 14 | C22: Снятия патины | O22: 250 | Z22: 200 | AK22: 300 | AL22: 600 | AM22: 600
B23: 15 | C23: Нанесения матового Лака | O23: 120 | W23: 120 | Z23: 120
B24: 16 | C24: Обклека деталий | F24: 50 | I24: 50 | J24: 50 | R24: 50 | S24: 50 | AB24: 50 | AC24: 50 | AE24: 50 | AF24: 50 | AH24: 50 | AJ24: 50 | AL24: 50 | AM24: 50
B25: 17 | C25: расклейка детали | F25: 50 | I25: 50 | J25: 50 | AB25: 50 | AC25: 50 | AE25: 50 | AF25: 50 | AH25: 50 | AJ25: 50 | AL25: 50 | AM25: 50
B26: 18 | C26: Чиска тылов Контроль | D26: 75 | G26: 75 | H26: 75 | K26: 75 | L26: 75 | M26: 75 | N26: 75 | O26: 75 | P26: 75 | Q26: 75 | R26: 75 | S26: 75 | T26: 75 | U26: 75 | V26: 75 | W26: 75 | X26: 75 | Y26: 75 | Z26: 75 | AA26: 75 | AD26: 75 | AG26: 75 | AI26: 75 | AK26: 75
B27: 19 | C27: Упаковка нергофлекс
B28: 20 | C28: Упаковка картон | D28: 100 | E28: 100 | F28: 100 | G28: 100 | H28: 100 | I28: 100 | J28: 100 | K28: 100 | L28: 100 | M28: 100 | N28: 100 | O28: 100 | P28: 100 | Q28: 100 | R28: 100 | S28: 100 | T28: 100 | U28: 100 | V28: 100 | W28: 100 | X28: 100 | Y28: 100 | Z28: 100 | AA28: 100 | AB28: 100 | AC28: 100 | AD28: 100 | AE28: 100 | AF28: 100 | AG28: 100 | AH28: 100 | AI28: 100 | AJ28: 100 | AK28: 100 | AL28: 100 | AM28: 100
C29: Итого работа | D29: =SUM(D9:D28) -> 905 | E29: =SUM(E9:E28) -> 1150 | F29: =SUM(F9:F28) -> 1610 | G29: =SUM(G9:G28) -> 1275 | H29: =SUM(H9:H28) -> 1515 | I29: =SUM(I9:I28) -> 2270 | J29: =SUM(J9:J28) -> 2840 | K29: =SUM(K9:K28) -> 1175 | ... AM29: =SUM(AM9:AM28) -> 2240
